BEGIN:VCALENDAR
VERSION:2.0
PRODID:-//wp-events-plugin.com//6.4.6.4//EN
TZID:America/New_York
X-WR-TIMEZONE:America/New_York
BEGIN:VEVENT
UID:293@issgroup.com
DTSTART;TZID=America/New_York:20230319T000000
DTEND;TZID=America/New_York:20230321T000000
DTSTAMP:20230316T175857Z
URL:https://www.issgroup.com/events/mwug-conference-march-19-21-2023-data-
 driven-approval-routing-and-workflow-for-qad-integrated-processes/
SUMMARY:MWUG Conference March 19-21\, 2023 | Data-Driven Approval Routing a
 nd Workflow for QAD Integrated Processes
DESCRIPTION:\nMWUG Spring 2023: March 19-21\nMarriott Key Center * Clevela
 nd\, OH\n\nMonday 20th @ 11:30am\nCustomer Case Study: QAD Financial Inte
 grations\nData-Driven Approval Routing and Workflow technology for QAD I
 ntegrated Processes\nANDREW WEINSTEIN - ​ISS Group\nNATHAN GOLDWASSER - 
 Abbott Point of Care\nQAD Integrated Processes are 1) Processes that util
 ize data elements maintained in the QAD DB for approval routing and workfl
 ow\, and 2) Processes that result in a validated QAD DB transaction (such 
 as creating a Purchase Order\, Sales Order\, Customer Credit Memo\, Materi
 al Transfer\, etc.).\n\nJoin us for an informative session where Nathan G
 oldwasser\, the IT Manager at Abbott Point of Care\, will share how ISS G
 roup's Data-Driven Approval Routing and Workflow technology has helped 
 Abbott reduce process cycle time and costs. Nathan will also explain how t
 his technology has improved process visibility and tracking for their Purc
 hasing\, Inventory Lot Management\, and ACH Payment Processes.\nIf you're 
 interested in seeing the technology in action\, a live demonstration will 
 also be provided. Don't miss this chance to learn more about this innovati
 ve technology!\nMarriott Key Center * Cleveland\, OH\n\n\nMonday 20th @ 2
 :00pm\nTips &amp\; Tricks to Improve Your Finance Experience in QAD\nAMAND
 A GOODSON - ​Strategic Information Group\n\nSaddle Up and join us as we 
 gallop through some of QAD’s most powerful and complementary tools that 
 will significantly improve the efficiency and effectiveness of your financ
 ial processes. These proven solutions will save you time\, save you money\
 , reduce risk and liability\, improve communication\, and empower you to m
 ake better business decisions.\n\nAndy Weinstein of ISS Group will be join
 ing Amanda\, bringing you the latest and greatest in Data-Driven Approva
 l Routing and Workflow technology\, as well as AP Automation specifically 
 designed for QAD. With Amanda's in-depth knowledge of QAD business process
 es and Andy's experience leading the charge at ISS Group\, this is a prese
 ntation you won't want to miss. So\, sit back\, relax\, and let these two 
 industry experts take you on a journey through the cutting of complementar
 y solutions for QAD.\n\nWe look forward to seeing you there....!\n\nTuesd
 ay 21st @ 11:15am\nStreamline ERP &amp\; Improve Visibility With Integrat
 ed Analytics Dashboard\nWALTER LITTLE - StrategicCHRISTINE MARTIN - Phocas
 \nLORI BRAUN - ISS Group\n\nGet ready for a game-changing presentation! Ou
 r team will showcase a new Integrated Analytics Dashboard for QAD with 
 real-time drill-down KPI graphs\, powered by ISS Group's Data-Driven App
 roval Routing technology\, Phocas Analytics and Strategics' custom Data Ad
 aptor. Discover the high return on investment you can achieve by implement
 ing this solution and dashboard\, as our expert panel outlines the benefit
 s and opportunities that it can unlock for your business success. Join us 
 and witness the future of data visualization in action!\n&nbsp\;\n\n&nbsp\
 ;
CATEGORIES:Conferences
END:VEVENT
BEGIN:VTIMEZONE
TZID:America/New_York
X-LIC-LOCATION:America/New_York
BEGIN:DAYLIGHT
DTSTART:20230312T030000
TZOFFSETFROM:-0500
TZOFFSETTO:-0400
TZNAME:EDT
END:DAYLIGHT
END:VTIMEZONE
END:VCALENDAR