BEGIN:VCALENDAR
VERSION:2.0
PRODID:-//wp-events-plugin.com//6.4.6.4//EN
TZID:America/New_York
X-WR-TIMEZONE:America/New_York
BEGIN:VEVENT
UID:290@issgroup.com
DTSTART;TZID=America/New_York:20220511T140000
DTEND;TZID=America/New_York:20220511T150000
DTSTAMP:20220506T201727Z
URL:https://www.issgroup.com/events/case-study-webinar-data-driven-approva
 l-routing-and-workflow-solutions-for-qad/
SUMMARY:Case Study Webinar Data-Driven Approval Routing and Workflow Soluti
 ons for QAD
DESCRIPTION:Including a Case Study with TrellisWare Technologies\nJoin us o
 n May 11th for a Webinar with SIG and Mike Gruber of TrellisWare Technolog
 ies to learn about Data-Driven Approval Routing and Workflow Solutions for
  QAD. We will present a Case Study on the implementation of one such solut
 ion for TrellisWare – iPurchase™.\n\nTrellisWare Case Study Highlights
 :\n\n 	Seamless integration between iPurchase™ and the QAD Enterprise As
 set Management module (EAM) for BI reporting\n 	Benefits/efficiencies achi
 eved from Data-Driven Approval Routing &amp\; Workflow functionality\n 	Ho
 w TrellisWare is utilizing iPurchase™ for Non-Inventory and Employee Exp
 ense Requisitions\n 	Efficiencies achieved by integrating iPurchase™ wit
 h SAP Concur\, an employee expense management solution\n\n“The team has 
 been fantastic. The biggest challenge for me managing this project has bee
 n coordinating 5 companies to make all our requirements happen. I can say 
 the easiest and most responsive to work with has been the ISS Group team
 ”\n\nMike Gruber\, TrellisWare Technologies\nRegister to learn how ISS G
 roup’s Data-Driven Approval Routing and Workflow Solutions utilize QAD d
 ata points for generating process improvements in Purchasing\, Finance\, I
 nventory Control\, Sales\, and Production.\n\nExamples of process improvem
 ents achieved by our clients:\n\n 	Reduced process time and cost\n 	Proces
 s approval status visibility and tracking\n 	Elimination of redundant data
  entry and paper forms\n 	Reduced auditing costs\n\n**FDA Validated / SOX 
 Compliant…!!\n\nDon’t miss this valuable event to learn how Data-Drive
 n Approval Routing and Workflow Solutions can save time and money for your
  organization.\n\nWebinar: Data Driven Approval Routing and Workflow Solut
 ions for QAD\nDate: Wednesday\, May 11\, 2022\nTime: 2:00 PM ET\n\n
CATEGORIES:Webinars
END:VEVENT
BEGIN:VTIMEZONE
TZID:America/New_York
X-LIC-LOCATION:America/New_York
BEGIN:DAYLIGHT
DTSTART:20220313T030000
TZOFFSETFROM:-0500
TZOFFSETTO:-0400
TZNAME:EDT
END:DAYLIGHT
END:VTIMEZONE
END:VCALENDAR