BEGIN:VCALENDAR
VERSION:2.0
PRODID:-//wp-events-plugin.com//6.4.6.4//EN
TZID:America/New_York
X-WR-TIMEZONE:America/New_York
BEGIN:VEVENT
UID:255@issgroup.com
DTSTART;TZID=America/New_York:20150723T123000
DTEND;TZID=America/New_York:20150723T133000
DTSTAMP:20150723T142506Z
URL:https://www.issgroup.com/events/23-july-agile-bpi-business-process-man
 agement-for-qad-ea-users/
SUMMARY:23 July (12:30pm est) | Business Process Management for QAD EA User
 s
DESCRIPTION:If you are a Supply Chain or IT Professional using the QAD Ente
 rprise Application (EA) and are responsible for setting up Items in QAD\, 
 you know the challenge that can be\, especially if multiple people within 
 your organization need to be involved in the process. You know that for ce
 rtain types of Items there are as many as eight (8) tables (and sometimes 
 more if you have any 3rd party add-ons) which need to be maintained with m
 any pieces of data on each table. How often has your organization tried to
  turn on production for a specific Item only to learn that a piece of crit
 ical data is missing from the system (like costing or pricing data)\, and 
 then scramble to find the right person(s) to input that data?\n\nWorking i
 n collaboration with one of QAD’s leading Management Consulting and impl
 ementation Partners\, Logan Consulting\, ISS Group has developed new funct
 ionality to our iApprove™ solution that will assist QAD user organizati
 ons with the task of creating new Items and all of its required data withi
 n the QAD Enterprise Application (EA).\n\nClick here to learn more&gt\;&gt
 \;&gt\;\n\nRegister here for the 12:30pm EST (9:30am PT) presentation on J
 uly 23rd\n\n&nbsp\;\n\n&nbsp\;\n\n&nbsp\;
CATEGORIES:Webinars
END:VEVENT
BEGIN:VTIMEZONE
TZID:America/New_York
X-LIC-LOCATION:America/New_York
BEGIN:DAYLIGHT
DTSTART:20150308T030000
TZOFFSETFROM:-0500
TZOFFSETTO:-0400
TZNAME:EDT
END:DAYLIGHT
END:VTIMEZONE
END:VCALENDAR